BEGIN:VCALENDAR
VERSION:2.0
PRODID:-//https://www.skob.com///NONSGML kigkonsult.se iCalcreator 2.10.15//
METHOD:PUBLISH
BEGIN:VEVENT
UID:20260422T070000UTC-9145UIE3PN@https://www.skob.com/
DTSTAMP:20260422T070000Z
DESCRIPTION: https://www.skob.com/component/rseventspro/event/1098-rob-viol
 a-2-6pm?Itemid=101
DTSTART;VALUE=DATE:20231112
LOCATION:Siesta Key Oyster Bar (5238 Ocean Blvd Sarasota\, FL 34242)
SUMMARY:Rob Viola	 2-6pm	
URL:https://www.skob.com/component/rseventspro/event/1098-rob-viola-2-6pm?I
 temid=101
END:VEVENT
END:VCALENDAR
