BEGIN:VCALENDAR
VERSION:2.0
PRODID:-//https://www.skob.com///NONSGML kigkonsult.se iCalcreator 2.10.15//
METHOD:PUBLISH
BEGIN:VEVENT
UID:20260423T051625UTC-3118rjwNcn@https://www.skob.com/
DTSTAMP:20260423T051625Z
DESCRIPTION: https://www.skob.com/component/rseventspro/event/1815-little-g
 iants-7-11pm?Itemid=101
DTSTART;VALUE=DATE:20241010
LOCATION:Siesta Key Oyster Bar (5238 Ocean Blvd Sarasota\, FL 34242)
SUMMARY:Little Giants	 7-11pm	
URL:https://www.skob.com/component/rseventspro/event/1815-little-giants-7-1
 1pm?Itemid=101
END:VEVENT
END:VCALENDAR
