BEGIN:VCALENDAR
VERSION:2.0
PRODID:-//https://www.skob.com///NONSGML kigkonsult.se iCalcreator 2.10.15//
METHOD:PUBLISH
BEGIN:VEVENT
UID:20260420T075422UTC-2332gGvk5O@https://www.skob.com/
DTSTAMP:20260420T075422Z
DESCRIPTION: https://www.skob.com/component/rseventspro/event/2356-bill-saw
 ilchik-1-5pm?Itemid=101
DTSTART;VALUE=DATE:20250506
LOCATION:Siesta Key Oyster Bar  (5238 Ocean Blvd\, Siesta Key\, FL 34242\, 
 USA)
SUMMARY:Bill Sawilchik 	 1-5pm
URL:https://www.skob.com/component/rseventspro/event/2356-bill-sawilchik-1-
 5pm?Itemid=101
END:VEVENT
END:VCALENDAR
