BEGIN:VCALENDAR
VERSION:2.0
PRODID:-//https://www.skob.com///NONSGML kigkonsult.se iCalcreator 2.10.15//
METHOD:PUBLISH
BEGIN:VEVENT
UID:20260420T054611UTC-9260wfLVC2@https://www.skob.com/
DTSTAMP:20260420T054611Z
DESCRIPTION: https://www.skob.com/component/rseventspro/event/2359-gabriel-
 gutierrez-7-11pm?Itemid=101
DTSTART;VALUE=DATE:20250507
LOCATION:Siesta Key Oyster Bar  (5238 Ocean Blvd\, Siesta Key\, FL 34242\, 
 USA)
SUMMARY:Gabriel Gutierrez 	 7-11pm  
URL:https://www.skob.com/component/rseventspro/event/2359-gabriel-gutierrez
 -7-11pm?Itemid=101
END:VEVENT
END:VCALENDAR
