BEGIN:VCALENDAR
VERSION:2.0
PRODID:-//https://www.skob.com///NONSGML kigkonsult.se iCalcreator 2.10.15//
METHOD:PUBLISH
BEGIN:VEVENT
UID:20260420T111123UTC-3466cwlAwo@https://www.skob.com/
DTSTAMP:20260420T111123Z
DESCRIPTION: https://www.skob.com/component/rseventspro/event/2360-dana-law
 rence-1-5pm?Itemid=101
DTSTART;VALUE=DATE:20250508
LOCATION:Siesta Key Oyster Bar  (5238 Ocean Blvd\, Siesta Key\, FL 34242\, 
 USA)
SUMMARY:Dana Lawrence 	 1-5pm  
URL:https://www.skob.com/component/rseventspro/event/2360-dana-lawrence-1-5
 pm?Itemid=101
END:VEVENT
END:VCALENDAR
