BEGIN:VCALENDAR
VERSION:2.0
PRODID:-//https://www.skob.com///NONSGML kigkonsult.se iCalcreator 2.10.15//
METHOD:PUBLISH
BEGIN:VEVENT
UID:20260420T072456UTC-1521EKpKZJ@https://www.skob.com/
DTSTAMP:20260420T072456Z
DESCRIPTION: https://www.skob.com/component/rseventspro/event/2361-nick-lev
 alley-7pm-11pm?Itemid=101
DTSTART;VALUE=DATE:20250508
LOCATION:Siesta Key Oyster Bar  (5238 Ocean Blvd\, Siesta Key\, FL 34242\, 
 USA)
SUMMARY:Nick Levalley	 7pm-11pm  
URL:https://www.skob.com/component/rseventspro/event/2361-nick-levalley-7pm
 -11pm?Itemid=101
END:VEVENT
END:VCALENDAR
