BEGIN:VCALENDAR
VERSION:2.0
PRODID:-//https://www.skob.com///NONSGML kigkonsult.se iCalcreator 2.10.15//
METHOD:PUBLISH
BEGIN:VEVENT
UID:20260420T091359UTC-0240slFUlm@https://www.skob.com/
DTSTAMP:20260420T091359Z
DESCRIPTION: https://www.skob.com/component/rseventspro/event/2362-steve-ma
 zzetta-11am-2pm?Itemid=101
DTSTART;VALUE=DATE:20250509
LOCATION:Siesta Key Oyster Bar  (5238 Ocean Blvd\, Siesta Key\, FL 34242\, 
 USA)
SUMMARY:Steve Mazzetta 	 11am-2pm  
URL:https://www.skob.com/component/rseventspro/event/2362-steve-mazzetta-11
 am-2pm?Itemid=101
END:VEVENT
END:VCALENDAR
