BEGIN:VCALENDAR
VERSION:2.0
PRODID:-//https://www.skob.com///NONSGML kigkonsult.se iCalcreator 2.10.15//
METHOD:PUBLISH
BEGIN:VEVENT
UID:20260420T090415UTC-0628G36GD5@https://www.skob.com/
DTSTAMP:20260420T090415Z
DESCRIPTION: https://www.skob.com/component/rseventspro/event/2364-chris-co
 nnolly-8pm-12am?Itemid=101
DTSTART;VALUE=DATE:20250509
LOCATION:Siesta Key Oyster Bar  (5238 Ocean Blvd\, Siesta Key\, FL 34242\, 
 USA)
SUMMARY:Chris Connolly	 8pm-12am  
URL:https://www.skob.com/component/rseventspro/event/2364-chris-connolly-8p
 m-12am?Itemid=101
END:VEVENT
END:VCALENDAR
