BEGIN:VCALENDAR
VERSION:2.0
PRODID:-//https://www.skob.com///NONSGML kigkonsult.se iCalcreator 2.10.15//
METHOD:PUBLISH
BEGIN:VEVENT
UID:20260420T103719UTC-8547G2suKK@https://www.skob.com/
DTSTAMP:20260420T103719Z
DESCRIPTION: https://www.skob.com/component/rseventspro/event/2365-chris-co
 nnolly-11am-2pm?Itemid=101
DTSTART;VALUE=DATE:20250510
LOCATION:Siesta Key Oyster Bar  (5238 Ocean Blvd\, Siesta Key\, FL 34242\, 
 USA)
SUMMARY:Chris Connolly	 11am-2pm  
URL:https://www.skob.com/component/rseventspro/event/2365-chris-connolly-11
 am-2pm?Itemid=101
END:VEVENT
END:VCALENDAR
