BEGIN:VCALENDAR
VERSION:2.0
PRODID:-//https://www.skob.com///NONSGML kigkonsult.se iCalcreator 2.10.15//
METHOD:PUBLISH
BEGIN:VEVENT
UID:20260420T105251UTC-0272WmlHNI@https://www.skob.com/
DTSTAMP:20260420T105251Z
DESCRIPTION: https://www.skob.com/component/rseventspro/event/2367-mike-toz
 ier-8pm-12am?Itemid=101
DTSTART;VALUE=DATE:20250510
LOCATION:Siesta Key Oyster Bar  (5238 Ocean Blvd\, Siesta Key\, FL 34242\, 
 USA)
SUMMARY:Mike Tozier	 8pm-12am 
URL:https://www.skob.com/component/rseventspro/event/2367-mike-tozier-8pm-1
 2am?Itemid=101
END:VEVENT
END:VCALENDAR
