BEGIN:VCALENDAR
VERSION:2.0
PRODID:-//https://www.skob.com///NONSGML kigkonsult.se iCalcreator 2.10.15//
METHOD:PUBLISH
BEGIN:VEVENT
UID:20260420T114049UTC-1817xUOG5S@https://www.skob.com/
DTSTAMP:20260420T114049Z
DESCRIPTION: https://www.skob.com/component/rseventspro/event/2369-john-rey
 nolds-2-6-pm?Itemid=101
DTSTART;VALUE=DATE:20250511
LOCATION:Siesta Key Oyster Bar  (5238 Ocean Blvd\, Siesta Key\, FL 34242\, 
 USA)
SUMMARY:John Reynolds	 2-6 pm 
URL:https://www.skob.com/component/rseventspro/event/2369-john-reynolds-2-6
 -pm?Itemid=101
END:VEVENT
END:VCALENDAR
