BEGIN:VCALENDAR
VERSION:2.0
PRODID:-//https://www.skob.com///NONSGML kigkonsult.se iCalcreator 2.10.15//
METHOD:PUBLISH
BEGIN:VEVENT
UID:20260420T113753UTC-1613SMl2VB@https://www.skob.com/
DTSTAMP:20260420T113753Z
DESCRIPTION: https://www.skob.com/component/rseventspro/event/2370-steve-ap
 ostoli-7-11pm?Itemid=101
DTSTART;VALUE=DATE:20250511
LOCATION:Siesta Key Oyster Bar  (5238 Ocean Blvd\, Siesta Key\, FL 34242\, 
 USA)
SUMMARY:Steve Apostoli	 7-11pm  
URL:https://www.skob.com/component/rseventspro/event/2370-steve-apostoli-7-
 11pm?Itemid=101
END:VEVENT
END:VCALENDAR
