BEGIN:VCALENDAR
VERSION:2.0
PRODID:-//https://www.skob.com///NONSGML kigkonsult.se iCalcreator 2.10.15//
METHOD:PUBLISH
BEGIN:VEVENT
UID:20260420T131604UTC-4174dvX3VI@https://www.skob.com/
DTSTAMP:20260420T131604Z
DESCRIPTION: https://www.skob.com/component/rseventspro/event/2371-joe-bern
 ui-1-5pm?Itemid=101
DTSTART;VALUE=DATE:20250512
LOCATION:Siesta Key Oyster Bar  (5238 Ocean Blvd\, Siesta Key\, FL 34242\, 
 USA)
SUMMARY:Joe Bernui 	 1-5pm  
URL:https://www.skob.com/component/rseventspro/event/2371-joe-bernui-1-5pm?
 Itemid=101
END:VEVENT
END:VCALENDAR
