BEGIN:VCALENDAR
VERSION:2.0
PRODID:-//https://www.skob.com///NONSGML kigkonsult.se iCalcreator 2.10.15//
METHOD:PUBLISH
BEGIN:VEVENT
UID:20260420T145414UTC-2663aSU3w0@https://www.skob.com/
DTSTAMP:20260420T145414Z
DESCRIPTION: https://www.skob.com/component/rseventspro/event/2373-chris-ot
 to-1-5pm?Itemid=101
DTSTART;VALUE=DATE:20250513
LOCATION:Siesta Key Oyster Bar  (5238 Ocean Blvd\, Siesta Key\, FL 34242\, 
 USA)
SUMMARY:Chris Otto	 1-5pm  
URL:https://www.skob.com/component/rseventspro/event/2373-chris-otto-1-5pm?
 Itemid=101
END:VEVENT
END:VCALENDAR
