BEGIN:VCALENDAR
VERSION:2.0
PRODID:-//https://www.skob.com///NONSGML kigkonsult.se iCalcreator 2.10.15//
METHOD:PUBLISH
BEGIN:VEVENT
UID:20260420T145752UTC-5585ERkZv9@https://www.skob.com/
DTSTAMP:20260420T145752Z
DESCRIPTION: https://www.skob.com/component/rseventspro/event/2374-john-sil
 vestri-7-11pm?Itemid=101
DTSTART;VALUE=DATE:20250513
LOCATION:Siesta Key Oyster Bar  (5238 Ocean Blvd\, Siesta Key\, FL 34242\, 
 USA)
SUMMARY:John Silvestri	 7-11pm 
URL:https://www.skob.com/component/rseventspro/event/2374-john-silvestri-7-
 11pm?Itemid=101
END:VEVENT
END:VCALENDAR
