BEGIN:VCALENDAR
VERSION:2.0
PRODID:-//https://www.skob.com///NONSGML kigkonsult.se iCalcreator 2.10.15//
METHOD:PUBLISH
BEGIN:VEVENT
UID:20260420T165058UTC-2136uR9Pr9@https://www.skob.com/
DTSTAMP:20260420T165058Z
DESCRIPTION: https://www.skob.com/component/rseventspro/event/2375-justin-l
 ayman-1-5pm?Itemid=101
DTSTART;VALUE=DATE:20250514
LOCATION:Siesta Key Oyster Bar  (5238 Ocean Blvd\, Siesta Key\, FL 34242\, 
 USA)
SUMMARY:Justin Layman	 1-5pm  
URL:https://www.skob.com/component/rseventspro/event/2375-justin-layman-1-5
 pm?Itemid=101
END:VEVENT
END:VCALENDAR
