BEGIN:VCALENDAR
VERSION:2.0
PRODID:-//https://www.skob.com///NONSGML kigkonsult.se iCalcreator 2.10.15//
METHOD:PUBLISH
BEGIN:VEVENT
UID:20260420T165221UTC-608474Nccs@https://www.skob.com/
DTSTAMP:20260420T165221Z
DESCRIPTION: https://www.skob.com/component/rseventspro/event/2376-ryan-far
 aday-7-11pm?Itemid=101
DTSTART;VALUE=DATE:20250514
LOCATION:Siesta Key Oyster Bar  (5238 Ocean Blvd\, Siesta Key\, FL 34242\, 
 USA)
SUMMARY:Ryan Faraday	 7-11pm 
URL:https://www.skob.com/component/rseventspro/event/2376-ryan-faraday-7-11
 pm?Itemid=101
END:VEVENT
END:VCALENDAR
