BEGIN:VCALENDAR
VERSION:2.0
PRODID:-//https://www.skob.com///NONSGML kigkonsult.se iCalcreator 2.10.15//
METHOD:PUBLISH
BEGIN:VEVENT
UID:20260420T201240UTC-7316UonvEA@https://www.skob.com/
DTSTAMP:20260420T201240Z
DESCRIPTION: https://www.skob.com/component/rseventspro/event/2380-john-whi
 teleather-3-7pm?Itemid=101
DTSTART;VALUE=DATE:20250516
LOCATION:Siesta Key Oyster Bar  (5238 Ocean Blvd\, Siesta Key\, FL 34242\, 
 USA)
SUMMARY:John Whiteleather	 3-7pm 
URL:https://www.skob.com/component/rseventspro/event/2380-john-whiteleather
 -3-7pm?Itemid=101
END:VEVENT
END:VCALENDAR
