BEGIN:VCALENDAR
VERSION:2.0
PRODID:-//https://www.skob.com///NONSGML kigkonsult.se iCalcreator 2.10.15//
METHOD:PUBLISH
BEGIN:VEVENT
UID:20260420T221420UTC-1973cLEuDN@https://www.skob.com/
DTSTAMP:20260420T221420Z
DESCRIPTION: https://www.skob.com/component/rseventspro/event/2383-bill-saw
 ilchik-3-7pm?Itemid=101
DTSTART;VALUE=DATE:20250517
LOCATION:Siesta Key Oyster Bar  (5238 Ocean Blvd\, Siesta Key\, FL 34242\, 
 USA)
SUMMARY:Bill Sawilchik 	 3-7pm 
URL:https://www.skob.com/component/rseventspro/event/2383-bill-sawilchik-3-
 7pm?Itemid=101
END:VEVENT
END:VCALENDAR
