BEGIN:VCALENDAR
VERSION:2.0
PRODID:-//https://www.skob.com///NONSGML kigkonsult.se iCalcreator 2.10.15//
METHOD:PUBLISH
BEGIN:VEVENT
UID:20260420T235443UTC-22784DoVWe@https://www.skob.com/
DTSTAMP:20260420T235443Z
DESCRIPTION: https://www.skob.com/component/rseventspro/event/2385-vince-co
 laiocco-10am-1pm?Itemid=101
DTSTART;VALUE=DATE:20250518
LOCATION:Siesta Key Oyster Bar  (5238 Ocean Blvd\, Siesta Key\, FL 34242\, 
 USA)
SUMMARY:Vince Colaiocco	 10am-1pm  
URL:https://www.skob.com/component/rseventspro/event/2385-vince-colaiocco-1
 0am-1pm?Itemid=101
END:VEVENT
END:VCALENDAR
