BEGIN:VCALENDAR
VERSION:2.0
PRODID:-//https://www.skob.com///NONSGML kigkonsult.se iCalcreator 2.10.15//
METHOD:PUBLISH
BEGIN:VEVENT
UID:20260420T234314UTC-8953GLs0Vc@https://www.skob.com/
DTSTAMP:20260420T234314Z
DESCRIPTION: https://www.skob.com/component/rseventspro/event/2386-tony-lav
 orgna-2-6pm?Itemid=101
DTSTART;VALUE=DATE:20250518
LOCATION:Siesta Key Oyster Bar  (5238 Ocean Blvd\, Siesta Key\, FL 34242\, 
 USA)
SUMMARY:Tony Lavorgna	 2-6pm  
URL:https://www.skob.com/component/rseventspro/event/2386-tony-lavorgna-2-6
 pm?Itemid=101
END:VEVENT
END:VCALENDAR
