BEGIN:VCALENDAR
VERSION:2.0
PRODID:-//https://www.skob.com///NONSGML kigkonsult.se iCalcreator 2.10.15//
METHOD:PUBLISH
BEGIN:VEVENT
UID:20260420T235854UTC-43847B6BFn@https://www.skob.com/
DTSTAMP:20260420T235854Z
DESCRIPTION: https://www.skob.com/component/rseventspro/event/2387-nick-lev
 alley-7-11pm?Itemid=101
DTSTART;VALUE=DATE:20250518
LOCATION:Siesta Key Oyster Bar  (5238 Ocean Blvd\, Siesta Key\, FL 34242\, 
 USA)
SUMMARY:Nick Levalley	 7-11pm  
URL:https://www.skob.com/component/rseventspro/event/2387-nick-levalley-7-1
 1pm?Itemid=101
END:VEVENT
END:VCALENDAR
