BEGIN:VCALENDAR
VERSION:2.0
PRODID:-//https://www.skob.com///NONSGML kigkonsult.se iCalcreator 2.10.15//
METHOD:PUBLISH
BEGIN:VEVENT
UID:20260421T010844UTC-20992WoESs@https://www.skob.com/
DTSTAMP:20260421T010844Z
DESCRIPTION: https://www.skob.com/component/rseventspro/event/2388-vince-be
 rardi-1-5pm?Itemid=101
DTSTART;VALUE=DATE:20250519
LOCATION:Siesta Key Oyster Bar  (5238 Ocean Blvd\, Siesta Key\, FL 34242\, 
 USA)
SUMMARY:Vince Berardi	 1-5pm 
URL:https://www.skob.com/component/rseventspro/event/2388-vince-berardi-1-5
 pm?Itemid=101
END:VEVENT
END:VCALENDAR
