BEGIN:VCALENDAR
VERSION:2.0
PRODID:-//https://www.skob.com///NONSGML kigkonsult.se iCalcreator 2.10.15//
METHOD:PUBLISH
BEGIN:VEVENT
UID:20260421T010757UTC-9204VbFXDE@https://www.skob.com/
DTSTAMP:20260421T010757Z
DESCRIPTION: https://www.skob.com/component/rseventspro/event/2389-al-donad
 i-7-11pm?Itemid=101
DTSTART;VALUE=DATE:20250519
LOCATION:Siesta Key Oyster Bar  (5238 Ocean Blvd\, Siesta Key\, FL 34242\, 
 USA)
SUMMARY:Al Donadi	 7-11pm  
URL:https://www.skob.com/component/rseventspro/event/2389-al-donadi-7-11pm?
 Itemid=101
END:VEVENT
END:VCALENDAR
