BEGIN:VCALENDAR
VERSION:2.0
PRODID:-//https://www.skob.com///NONSGML kigkonsult.se iCalcreator 2.10.15//
METHOD:PUBLISH
BEGIN:VEVENT
UID:20260421T025243UTC-8137RB03VX@https://www.skob.com/
DTSTAMP:20260421T025243Z
DESCRIPTION: https://www.skob.com/component/rseventspro/event/2390-brian-ma
 nsano-1-5pm?Itemid=101
DTSTART;VALUE=DATE:20250520
LOCATION:Siesta Key Oyster Bar  (5238 Ocean Blvd\, Siesta Key\, FL 34242\, 
 USA)
SUMMARY:Brian Mansano	 1-5pm  
URL:https://www.skob.com/component/rseventspro/event/2390-brian-mansano-1-5
 pm?Itemid=101
END:VEVENT
END:VCALENDAR
