BEGIN:VCALENDAR
VERSION:2.0
PRODID:-//https://www.skob.com///NONSGML kigkonsult.se iCalcreator 2.10.15//
METHOD:PUBLISH
BEGIN:VEVENT
UID:20260421T040743UTC-6205tFBUez@https://www.skob.com/
DTSTAMP:20260421T040743Z
DESCRIPTION: https://www.skob.com/component/rseventspro/event/2393-john-rid
 lon-7pm-11pm?Itemid=101
DTSTART;VALUE=DATE:20250521
LOCATION:Siesta Key Oyster Bar  (5238 Ocean Blvd\, Siesta Key\, FL 34242\, 
 USA)
SUMMARY:John Ridlon	 7pm-11pm  
URL:https://www.skob.com/component/rseventspro/event/2393-john-ridlon-7pm-1
 1pm?Itemid=101
END:VEVENT
END:VCALENDAR
