BEGIN:VCALENDAR
VERSION:2.0
PRODID:-//https://www.skob.com///NONSGML kigkonsult.se iCalcreator 2.10.15//
METHOD:PUBLISH
BEGIN:VEVENT
UID:20260421T054311UTC-9707fgixpl@https://www.skob.com/
DTSTAMP:20260421T054311Z
DESCRIPTION: https://www.skob.com/component/rseventspro/event/2395-nick-lev
 alley-87pm-11pm?Itemid=101
DTSTART;VALUE=DATE:20250522
LOCATION:Siesta Key Oyster Bar  (5238 Ocean Blvd\, Siesta Key\, FL 34242\, 
 USA)
SUMMARY:Nick Levalley	 87pm-11pm  
URL:https://www.skob.com/component/rseventspro/event/2395-nick-levalley-87p
 m-11pm?Itemid=101
END:VEVENT
END:VCALENDAR
