BEGIN:VCALENDAR
VERSION:2.0
PRODID:-//https://www.skob.com///NONSGML kigkonsult.se iCalcreator 2.10.15//
METHOD:PUBLISH
BEGIN:VEVENT
UID:20260421T072419UTC-1859ONpG7j@https://www.skob.com/
DTSTAMP:20260421T072419Z
DESCRIPTION: https://www.skob.com/component/rseventspro/event/2397-john-whi
 teleather-3-7pm?Itemid=101
DTSTART;VALUE=DATE:20250523
LOCATION:Siesta Key Oyster Bar  (5238 Ocean Blvd\, Siesta Key\, FL 34242\, 
 USA)
SUMMARY:John Whiteleather	 3-7pm  
URL:https://www.skob.com/component/rseventspro/event/2397-john-whiteleather
 -3-7pm?Itemid=101
END:VEVENT
END:VCALENDAR
