BEGIN:VCALENDAR
VERSION:2.0
PRODID:-//https://www.skob.com///NONSGML kigkonsult.se iCalcreator 2.10.15//
METHOD:PUBLISH
BEGIN:VEVENT
UID:20260421T072419UTC-1934nBlMla@https://www.skob.com/
DTSTAMP:20260421T072419Z
DESCRIPTION: https://www.skob.com/component/rseventspro/event/2398-nick-lev
 alley-8pm-12am?Itemid=101
DTSTART;VALUE=DATE:20250523
LOCATION:Siesta Key Oyster Bar  (5238 Ocean Blvd\, Siesta Key\, FL 34242\, 
 USA)
SUMMARY:Nick Levalley	 8pm-12am 
URL:https://www.skob.com/component/rseventspro/event/2398-nick-levalley-8pm
 -12am?Itemid=101
END:VEVENT
END:VCALENDAR
