BEGIN:VCALENDAR
VERSION:2.0
PRODID:-//https://www.skob.com///NONSGML kigkonsult.se iCalcreator 2.10.15//
METHOD:PUBLISH
BEGIN:VEVENT
UID:20260421T103557UTC-4111Fkibsm@https://www.skob.com/
DTSTAMP:20260421T103557Z
DESCRIPTION: https://www.skob.com/component/rseventspro/event/2402-joey-lav
 allee-10am-1pm?Itemid=101
DTSTART;VALUE=DATE:20250525
LOCATION:Siesta Key Oyster Bar  (5238 Ocean Blvd\, Siesta Key\, FL 34242\, 
 USA)
SUMMARY:Joey Lavallee	 10am-1pm  
URL:https://www.skob.com/component/rseventspro/event/2402-joey-lavallee-10a
 m-1pm?Itemid=101
END:VEVENT
END:VCALENDAR
