BEGIN:VCALENDAR
VERSION:2.0
PRODID:-//https://www.skob.com///NONSGML kigkonsult.se iCalcreator 2.10.15//
METHOD:PUBLISH
BEGIN:VEVENT
UID:20260421T103007UTC-1779HuFR12@https://www.skob.com/
DTSTAMP:20260421T103007Z
DESCRIPTION: https://www.skob.com/component/rseventspro/event/2403-john-rey
 nolds-2-6-pm?Itemid=101
DTSTART;VALUE=DATE:20250525
LOCATION:Siesta Key Oyster Bar  (5238 Ocean Blvd\, Siesta Key\, FL 34242\, 
 USA)
SUMMARY:John Reynolds	 2-6 pm  
URL:https://www.skob.com/component/rseventspro/event/2403-john-reynolds-2-6
 -pm?Itemid=101
END:VEVENT
END:VCALENDAR
