BEGIN:VCALENDAR
VERSION:2.0
PRODID:-//https://www.skob.com///NONSGML kigkonsult.se iCalcreator 2.10.15//
METHOD:PUBLISH
BEGIN:VEVENT
UID:20260421T122044UTC-5935R6mucz@https://www.skob.com/
DTSTAMP:20260421T122044Z
DESCRIPTION: https://www.skob.com/component/rseventspro/event/2404-joey-lav
 allee-1-5pm?Itemid=101
DTSTART;VALUE=DATE:20250526
LOCATION:Siesta Key Oyster Bar  (5238 Ocean Blvd\, Siesta Key\, FL 34242\, 
 USA)
SUMMARY:Joey Lavallee	 1-5pm  
URL:https://www.skob.com/component/rseventspro/event/2404-joey-lavallee-1-5
 pm?Itemid=101
END:VEVENT
END:VCALENDAR
