BEGIN:VCALENDAR
VERSION:2.0
PRODID:-//https://www.skob.com///NONSGML kigkonsult.se iCalcreator 2.10.15//
METHOD:PUBLISH
BEGIN:VEVENT
UID:20260421T133245UTC-7760wJPU2Z@https://www.skob.com/
DTSTAMP:20260421T133245Z
DESCRIPTION: https://www.skob.com/component/rseventspro/event/2407-john-sil
 vestri-7-11pm?Itemid=101
DTSTART;VALUE=DATE:20250527
LOCATION:Siesta Key Oyster Bar  (5238 Ocean Blvd\, Siesta Key\, FL 34242\, 
 USA)
SUMMARY:John Silvestri	 7-11pm 
URL:https://www.skob.com/component/rseventspro/event/2407-john-silvestri-7-
 11pm?Itemid=101
END:VEVENT
END:VCALENDAR
