BEGIN:VCALENDAR
VERSION:2.0
PRODID:-//https://www.skob.com///NONSGML kigkonsult.se iCalcreator 2.10.15//
METHOD:PUBLISH
BEGIN:VEVENT
UID:20260421T145853UTC-2032t139l2@https://www.skob.com/
DTSTAMP:20260421T145853Z
DESCRIPTION: https://www.skob.com/component/rseventspro/event/2409-chris-co
 nnolly-7-11pm?Itemid=101
DTSTART;VALUE=DATE:20250528
LOCATION:Siesta Key Oyster Bar  (5238 Ocean Blvd\, Siesta Key\, FL 34242\, 
 USA)
SUMMARY:Chris Connolly	 7-11pm  
URL:https://www.skob.com/component/rseventspro/event/2409-chris-connolly-7-
 11pm?Itemid=101
END:VEVENT
END:VCALENDAR
