BEGIN:VCALENDAR
VERSION:2.0
PRODID:-//https://www.skob.com///NONSGML kigkonsult.se iCalcreator 2.10.15//
METHOD:PUBLISH
BEGIN:VEVENT
UID:20260421T175908UTC-1045XGKOhP@https://www.skob.com/
DTSTAMP:20260421T175908Z
DESCRIPTION: https://www.skob.com/component/rseventspro/event/2414-jack-ber
 ry-8pm-12am?Itemid=101
DTSTART;VALUE=DATE:20250530
LOCATION:Siesta Key Oyster Bar  (5238 Ocean Blvd\, Siesta Key\, FL 34242\, 
 USA)
SUMMARY:Jack Berry	 8pm-12am 
URL:https://www.skob.com/component/rseventspro/event/2414-jack-berry-8pm-12
 am?Itemid=101
END:VEVENT
END:VCALENDAR
