BEGIN:VCALENDAR
VERSION:2.0
PRODID:-//https://www.skob.com///NONSGML kigkonsult.se iCalcreator 2.10.15//
METHOD:PUBLISH
BEGIN:VEVENT
UID:20260421T192927UTC-9384gGrv5t@https://www.skob.com/
DTSTAMP:20260421T192927Z
DESCRIPTION: https://www.skob.com/component/rseventspro/event/2415-sara-nel
 ms-11am-2pm?Itemid=101
DTSTART;VALUE=DATE:20250531
LOCATION:Siesta Key Oyster Bar  (5238 Ocean Blvd\, Siesta Key\, FL 34242\, 
 USA)
SUMMARY:Sara Nelms	 11am-2pm  
URL:https://www.skob.com/component/rseventspro/event/2415-sara-nelms-11am-2
 pm?Itemid=101
END:VEVENT
END:VCALENDAR
