BEGIN:VCALENDAR
VERSION:2.0
PRODID:-//https://www.skob.com///NONSGML kigkonsult.se iCalcreator 2.10.15//
METHOD:PUBLISH
BEGIN:VEVENT
UID:20260421T205838UTC-16610LOovR@https://www.skob.com/
DTSTAMP:20260421T205838Z
DESCRIPTION: https://www.skob.com/component/rseventspro/event/2419-melody-m
 inors-2-6pm?Itemid=101
DTSTART;VALUE=DATE:20250601
LOCATION:Siesta Key Oyster Bar  (5238 Ocean Blvd\, Siesta Key\, FL 34242\, 
 USA)
SUMMARY:Melody Minors	 2-6pm	
URL:https://www.skob.com/component/rseventspro/event/2419-melody-minors-2-6
 pm?Itemid=101
END:VEVENT
END:VCALENDAR
