BEGIN:VCALENDAR
VERSION:2.0
PRODID:-//https://www.skob.com///NONSGML kigkonsult.se iCalcreator 2.10.15//
METHOD:PUBLISH
BEGIN:VEVENT
UID:20260421T222457UTC-76551HSjTA@https://www.skob.com/
DTSTAMP:20260421T222457Z
DESCRIPTION: https://www.skob.com/component/rseventspro/event/2421-frankie-
 lombardi-1-5pm?Itemid=101
DTSTART;VALUE=DATE:20250602
LOCATION:Siesta Key Oyster Bar  (5238 Ocean Blvd\, Siesta Key\, FL 34242\, 
 USA)
SUMMARY:Frankie Lombardi	 1-5pm	
URL:https://www.skob.com/component/rseventspro/event/2421-frankie-lombardi-
 1-5pm?Itemid=101
END:VEVENT
END:VCALENDAR
