BEGIN:VCALENDAR
VERSION:2.0
PRODID:-//https://www.skob.com///NONSGML kigkonsult.se iCalcreator 2.10.15//
METHOD:PUBLISH
BEGIN:VEVENT
UID:20260421T235129UTC-5192E3GVFt@https://www.skob.com/
DTSTAMP:20260421T235129Z
DESCRIPTION: https://www.skob.com/component/rseventspro/event/2423-little-b
 ill-1-5pm?Itemid=101
DTSTART;VALUE=DATE:20250603
LOCATION:Siesta Key Oyster Bar  (5238 Ocean Blvd\, Siesta Key\, FL 34242\, 
 USA)
SUMMARY:Little Bill	 1-5pm	
URL:https://www.skob.com/component/rseventspro/event/2423-little-bill-1-5pm
 ?Itemid=101
END:VEVENT
END:VCALENDAR
