BEGIN:VCALENDAR
VERSION:2.0
PRODID:-//https://www.skob.com///NONSGML kigkonsult.se iCalcreator 2.10.15//
METHOD:PUBLISH
BEGIN:VEVENT
UID:20260421T235557UTC-5258Auexc8@https://www.skob.com/
DTSTAMP:20260421T235557Z
DESCRIPTION: https://www.skob.com/component/rseventspro/event/2424-open-mic
 -7-11pm?Itemid=101
DTSTART;VALUE=DATE:20250603
LOCATION:Siesta Key Oyster Bar  (5238 Ocean Blvd\, Siesta Key\, FL 34242\, 
 USA)
SUMMARY:Open Mic	 7-11pm	
URL:https://www.skob.com/component/rseventspro/event/2424-open-mic-7-11pm?I
 temid=101
END:VEVENT
END:VCALENDAR
