BEGIN:VCALENDAR
VERSION:2.0
PRODID:-//https://www.skob.com///NONSGML kigkonsult.se iCalcreator 2.10.15//
METHOD:PUBLISH
BEGIN:VEVENT
UID:20260422T024632UTC-6980fHwPkE@https://www.skob.com/
DTSTAMP:20260422T024632Z
DESCRIPTION: https://www.skob.com/component/rseventspro/event/2428-little-g
 iants-7-11pm?Itemid=101
DTSTART;VALUE=DATE:20250605
LOCATION:Siesta Key Oyster Bar  (5238 Ocean Blvd\, Siesta Key\, FL 34242\, 
 USA)
SUMMARY:Little Giants	 7-11pm	
URL:https://www.skob.com/component/rseventspro/event/2428-little-giants-7-1
 1pm?Itemid=101
END:VEVENT
END:VCALENDAR
