BEGIN:VCALENDAR
VERSION:2.0
PRODID:-//https://www.skob.com///NONSGML kigkonsult.se iCalcreator 2.10.15//
METHOD:PUBLISH
BEGIN:VEVENT
UID:20260422T040436UTC-5618lbbhxA@https://www.skob.com/
DTSTAMP:20260422T040436Z
DESCRIPTION: https://www.skob.com/component/rseventspro/event/2431-northsta
 r-8pm-12am?Itemid=101
DTSTART;VALUE=DATE:20250606
LOCATION:Siesta Key Oyster Bar  (5238 Ocean Blvd\, Siesta Key\, FL 34242\, 
 USA)
SUMMARY:Northstar	 8pm-12am	
URL:https://www.skob.com/component/rseventspro/event/2431-northstar-8pm-12a
 m?Itemid=101
END:VEVENT
END:VCALENDAR
