BEGIN:VCALENDAR
VERSION:2.0
PRODID:-//https://www.skob.com///NONSGML kigkonsult.se iCalcreator 2.10.15//
METHOD:PUBLISH
BEGIN:VEVENT
UID:20260422T061824UTC-6977grMw3Z@https://www.skob.com/
DTSTAMP:20260422T061824Z
DESCRIPTION: https://www.skob.com/component/rseventspro/event/2435-joey-lav
 allee-10am-1pm?Itemid=101
DTSTART;VALUE=DATE:20250608
LOCATION:Siesta Key Oyster Bar  (5238 Ocean Blvd\, Siesta Key\, FL 34242\, 
 USA)
SUMMARY:Joey Lavallee	 10am-1pm	
URL:https://www.skob.com/component/rseventspro/event/2435-joey-lavallee-10a
 m-1pm?Itemid=101
END:VEVENT
END:VCALENDAR
