BEGIN:VCALENDAR
VERSION:2.0
PRODID:-//https://www.skob.com///NONSGML kigkonsult.se iCalcreator 2.10.15//
METHOD:PUBLISH
BEGIN:VEVENT
UID:20260422T061616UTC-8449ixD6vx@https://www.skob.com/
DTSTAMP:20260422T061616Z
DESCRIPTION: https://www.skob.com/component/rseventspro/event/2436-souvenir
 -2-6pm?Itemid=101
DTSTART;VALUE=DATE:20250608
LOCATION:Siesta Key Oyster Bar  (5238 Ocean Blvd\, Siesta Key\, FL 34242\, 
 USA)
SUMMARY:Souvenir	 2-6pm	
URL:https://www.skob.com/component/rseventspro/event/2436-souvenir-2-6pm?It
 emid=101
END:VEVENT
END:VCALENDAR
