BEGIN:VCALENDAR
VERSION:2.0
PRODID:-//https://www.skob.com///NONSGML kigkonsult.se iCalcreator 2.10.15//
METHOD:PUBLISH
BEGIN:VEVENT
UID:20260422T135656UTC-9867gxKSCp@https://www.skob.com/
DTSTAMP:20260422T135656Z
DESCRIPTION: https://www.skob.com/component/rseventspro/event/2450-little-b
 ill-3-7pm?Itemid=101
DTSTART;VALUE=DATE:20250614
LOCATION:Siesta Key Oyster Bar  (5238 Ocean Blvd\, Siesta Key\, FL 34242\, 
 USA)
SUMMARY:Little Bill	 3-7pm	
URL:https://www.skob.com/component/rseventspro/event/2450-little-bill-3-7pm
 ?Itemid=101
END:VEVENT
END:VCALENDAR
