BEGIN:VCALENDAR
VERSION:2.0
PRODID:-//https://www.skob.com///NONSGML kigkonsult.se iCalcreator 2.10.15//
METHOD:PUBLISH
BEGIN:VEVENT
UID:20260422T152308UTC-65659FpgE3@https://www.skob.com/
DTSTAMP:20260422T152308Z
DESCRIPTION: https://www.skob.com/component/rseventspro/event/2453-saint-to
 ne-duo-2-6pm?Itemid=101
DTSTART;VALUE=DATE:20250615
LOCATION:Siesta Key Oyster Bar  (5238 Ocean Blvd\, Siesta Key\, FL 34242\, 
 USA)
SUMMARY:Saint Tone Duo	 2-6pm	
URL:https://www.skob.com/component/rseventspro/event/2453-saint-tone-duo-2-
 6pm?Itemid=101
END:VEVENT
END:VCALENDAR
