BEGIN:VCALENDAR
VERSION:2.0
PRODID:-//https://www.skob.com///NONSGML kigkonsult.se iCalcreator 2.10.15//
METHOD:PUBLISH
BEGIN:VEVENT
UID:20260422T174509UTC-1913ApFdWJ@https://www.skob.com/
DTSTAMP:20260422T174509Z
DESCRIPTION: https://www.skob.com/component/rseventspro/event/2457-sara-nel
 ms-1-5pm?Itemid=101
DTSTART;VALUE=DATE:20250617
LOCATION:Siesta Key Oyster Bar  (5238 Ocean Blvd\, Siesta Key\, FL 34242\, 
 USA)
SUMMARY:Sara Nelms	 1-5pm	
URL:https://www.skob.com/component/rseventspro/event/2457-sara-nelms-1-5pm?
 Itemid=101
END:VEVENT
END:VCALENDAR
