BEGIN:VCALENDAR
VERSION:2.0
PRODID:-//https://www.skob.com///NONSGML kigkonsult.se iCalcreator 2.10.15//
METHOD:PUBLISH
BEGIN:VEVENT
UID:20260422T173329UTC-3749LCVO3v@https://www.skob.com/
DTSTAMP:20260422T173329Z
DESCRIPTION: https://www.skob.com/component/rseventspro/event/2458-audio-or
 chid-7-11pm?Itemid=101
DTSTART;VALUE=DATE:20250617
LOCATION:Siesta Key Oyster Bar  (5238 Ocean Blvd\, Siesta Key\, FL 34242\, 
 USA)
SUMMARY:Audio Orchid	 7-11pm	
URL:https://www.skob.com/component/rseventspro/event/2458-audio-orchid-7-11
 pm?Itemid=101
END:VEVENT
END:VCALENDAR
