BEGIN:VCALENDAR
VERSION:2.0
PRODID:-//https://www.skob.com///NONSGML kigkonsult.se iCalcreator 2.10.15//
METHOD:PUBLISH
BEGIN:VEVENT
UID:20260422T190011UTC-6983n8xk0k@https://www.skob.com/
DTSTAMP:20260422T190011Z
DESCRIPTION: https://www.skob.com/component/rseventspro/event/2460-northsta
 r-7-11pm?Itemid=101
DTSTART;VALUE=DATE:20250618
LOCATION:Siesta Key Oyster Bar  (5238 Ocean Blvd\, Siesta Key\, FL 34242\, 
 USA)
SUMMARY:Northstar	 7-11pm	
URL:https://www.skob.com/component/rseventspro/event/2460-northstar-7-11pm?
 Itemid=101
END:VEVENT
END:VCALENDAR
