BEGIN:VCALENDAR
VERSION:2.0
PRODID:-//https://www.skob.com///NONSGML kigkonsult.se iCalcreator 2.10.15//
METHOD:PUBLISH
BEGIN:VEVENT
UID:20260426T041324UTC-7498VaFWxD@https://www.skob.com/
DTSTAMP:20260426T041324Z
DESCRIPTION: https://www.skob.com/component/rseventspro/event/3451-michael-
 cole-1-5-pm?Itemid=101
DTSTART;VALUE=DATE:20260803
LOCATION:Siesta Key Oyster Bar (5238 Ocean Blvd Sarasota\, FL 34242)
SUMMARY:Michael Cole	 1-5 pm	
URL:https://www.skob.com/component/rseventspro/event/3451-michael-cole-1-5-
 pm?Itemid=101
END:VEVENT
END:VCALENDAR
